]s8+M\ )RتeGz|RA$$1HHx5 IW%Y@@3A]^\jz~OVj>kzY#՝*B?ߦkLC6ۗd4n/Gn[ ny4PZ^sz7/Խ , MOdqm7ǽm|n[X0j[+zE=WBr^ I -ß?b9&UҖHa/J //=t/:?=a|vJ~bsS,vFEt2rj),k777MYu8?>S,4|뵺v6U_u}TN@y@Q!`=1,8+?>5E3cZB3j#*{adp0Nmf$>-CjIèᨰA,FT .7Q\1\ۦcO>EF9?* YnsXF}M pvsPy f= U8a3H`%vodny.c4b4xtQaԽ6x2ˌf6I\g>sAGh=Y_`a{T5+eOULYETێSFObh!Yr\hFvƅEڠ\(>4 ~զUR|E [Cgr 9dRoHx·^#ʋY>-C*G' ||1]C%(XlËaY*RQզ&IqN@-+~ٌB-wp>~2.)[c`+ %#x>ܫ"c8/d@?~$$|Z9oԊ4F9F-s!2e@C,o$dsLߦ%3%`7 **9]K="ݓceK \~ CD<*i$k9#Z=Ϡ"~f*:tVֈ. KCⲱ(qAu ыg]k`ŸjWܙb[3V,4 {?,feѯ•a~pq@D9ф{3IV2*2t*POB(}ޤ?tZ? O˻ @0?rIxqBr҅B'eb܁ ? # Iy7ōjBiAVZN8n3v~K"tB+ŷTȐe M{<*zE;nJ+4h9d=r{j9m$ח Kj}93=Mj\,"9 $۾dřYv.&8=د=׍n <:H+=0ZmM偻o0 wq1:Ɲь$|7Is.&h>OkmQڊT<8?s:}DRqqMf&N&Jd§i6u*B7d#gkGf%״-,4_'_briS(9/i5~̩^^UqxS;izQܱUoXlmr5z2sGL*l>9,Y9uD~+w5YߙR>vRu^=ڠSp2mszu8$66VJ꓆mMgou$ ljSl2w=wmTԪl Ej5E/' ' <+E$͜kCB@fT. -I]L}Ԃ3C0l|@NR>9+g\CyOQ7k|ןZ=]'jqW;gC48W Ed<7 y)u24SD(3$F* w-ҹK⊺ܺ~d2jwEW[7H<}V31Ÿ2jҮ\=|l)̜<>JZ 6KQ\>pzI}|7EBh"8Q^.UУS3N)L*Wanl4*W>DeWכc=*>֫jYdS&мq<dpI9>8Pc0Mڡ?-Eڌ\:˹JzS&Ofox;ԃ.[SM"\BDz0rz[3}3oDHbmmh^KqviqiB&|.:BgRyՅvfRj9+zŧ.w"op?.'׎ɀ#R/Ia/~߅W<_AD)sa_ɦQ"z/rE> KxdKd s|lѱ ˉW "2BM3zM<bljD/u0><4/:__R)&Oɡ8ÀaXxd5mt@7qvDG^\2HE׮.0Rje:TE ,b[SNAYZQ[k9;dcN"C+)R*%RNiآ@U"CɔAZ7@hLe}ZLGxـ,cH;\L<VKFSk2 M߀@j)kj!3-nF8ʶr-/זFo!>YƗ x<7~{T2TԘʚL#2d\ϗNF"tBٳ&Whj%^pvn@3iq ]i husPsh껌8k.w",D:ZWki2'"L- M= ].]gIT2%U˒<]7hNpHd8r 3!$Bː M׷tm7HܘSϾ#ZЪllz(HEZ9C7HufƮ.tU2>ʹf3wE67 9 25\Op·RBLdcni-M0lnҮ]S;͍f iͨ,'L):m7 sP%h:Κb2FZ!PmwZc2'NI@zZ病dA lNDځ ҝJ$#t<󌰖"c- _"7D@k[ 3gRTdZ6WSuf&} 9zCϭ]Mz)Yn86&Lf]`a;=0&,Vδv279gl J w2d6T#iZg]YNS0Mg,2%#H͗Brkj'/P=fwr2vΤkR&MS\:r )NKƝ!{7 4%s+p -Mܺ|JM&Y 2#]\H͒-]k;ٌ`im9*ٔIc]P@/ ))ė۲ɔ`Iڳl|G>7zf׻G&S ďRJt9KfcPR#cԔM6Ov;+P3u8)N7\& gApBD CxMҎZڒu:t3).XMnvl.k7!;ZUO mX 7%Rd8oڧS3-=4ӝpsYOKD\23)K, /@wK1hAp",e'B J)4A&Ie7C$?#eLynH왵? @k 'qZ)みF1鐃I|-%,pnΜdn޳-m,ίƖl^uU K\ek \$1:u^v%3FJrqLlKOtt7zfRϞEcSO,Ҫo,vHڿQr9Dpb. (ӄN <6gw'WN6bqC,poL&eI?Mȍvl)QmS A~G0x 5d4ܮ\$+tw]]#4~OJG*L|~_cHB#49l|l޽+,ܤ(|[ 0IeXNKYC'Ŧ%|~A-Q _ FBXwqLal;>RuUjcEU:ת(zi0.Arj/6x5[>@Eoxuviz5VzKU[. [֣P=Qur/czXe`8 cfP5h@6Xb2A٠JmlO`Aga< O8Ul ަx=]+e 1އeA Э\fY1ӳ Bk  e&c1\1>l7:2Pԯ\ЈC b"88NIcaJ\R@R,1pZ ,pkvS`Zs5|EJrj4dZ%D 8g.IYYRmg sIi`u FM'ă0r p!c#DǽQKU^ 4_X;~ARJQ>zcPB eZ\^Nj5H#F쉆|¹0́ jK?U8E„9Y)u5M9^i_!YpqcV2î42L/M*"H΄T)!ASzT FǗkQl0c $F֙Yϖ^ 5VLA8ĝxRJwֈaҀa@KIwl0 b=P{~%2e{99;w1ŒkdJ0ft V6h:ޤD5 aFLVO폆*HY^ Xi#` =#\Z221ExO?iԿGHZ-26qk|JjT/4nm@Q:J 3nژ8Yw35}dwa?C7A I/.9/^ɷ=UOk7ꇧ?F~4Wv%xEpJu]pZ[ާgOU$u=۱1z?rLb "KFZ%=jזg8q^GOU(q?Λ7 te|ċAy3$$sqOHDeXپaHT$9W7GTQ~~r"\?ܗ<ݻ(ſd_Hiսw'AJqENN|)i'1͡]#K;=eg{Ǒ­se[ \+UCg"%u \ȋ1_Lׅ".s}}Q@H=6VeHP˗odHF ÈPcI=SZ+ 2Mm"~K 5#P-/@?t$9@fӈǪe^\jjCA=]DA A_x&ͯ$ YƷY`"a4lD4ZZ%8ss?sVnD^'{Ikd@)dGYWYPMfmU嫓*.qa rǾ7|aj}R;$%;S9ҟBt0:G*Sjf&B+H&*B,t%mݓxkzͷ m^eL+ #&Y$Ǡ*=)vglQ;6^<}7YBGr㉳)+|L͘{< *1F#YԘ&(k.,S 7-tX:uG_[:paZ/lSuɷrƆj1$R[/9o+D[ zd5#,\tů=faψPwmYm]o<]Ӕn+Kv8\,@P 7&}[{zZԢGQND bU^ s2XQ[}&gi"x,Q5!J/ ;TirQ%S"R0ъT:IsV$ۣ\VWl\XF"@HyK|e@Ti97\ t|%ܫDL%܍rkLNgOB;y1վ\.63pl^4wYNNpӆ29jQoҐH*8$N]RjIwd[& \pm(w9,CxR.=ކfgu:;gܙZ2LwOV~$b[gY!.A|:Qr >;3 pW&lE퐉[m? _8[\9kMC 6((yy6)M^TKυ'Pg[`>xSXshG1 )5_6&A =0 }}k# ՉL6t׸c'L^j4WyS/6M]d'崠+x2%4JP1#V7/˝:4=F۫^ Gٱ^B{ aC̾E?7ogqbo4ߤڣ+ k벏[-3kc??c<Q܁>Vjwczd6|8܌"Ze?ƒs>ᖥv[a}ӨZ:6pkp]3(4Y'`\[W H5$=I#c (G6E0,^mF$O |xTnd|S'9 -*wPA&G ~TgVIKV %*Gy V 6@P(+7iAS&"lЦy^ oUվ>)xQ%?j/ϪUH9a~w%b @V8f8nO6t6<UhK5ËΝio,k'q)2( m2I*Nbt< M`ε&Z."(%Ļi1t[Nw=QmDZ'λ@> +XXDAy>QE O "47`SXrB4DbPʭ-XMhUyNkI6+ȱyZ۸u\?M,/A5P/ a6zV_wrs;X57X'(f:{QkG0}j#Ҍ 6*S7@ׯlon>Ld%PBFa Kr_2L<:n֏!.zM(ƲJ $9%VD x_Obo 0l)XbPpd_VZV]X`x/[%׼BQmK([ [YHBpJЙw/#|^?؅VV.kmdqx*>MJЮp:bjjO}?}'CgQ a=fw)qcl4ן[wfڋ.?nm$Ys {S̴n_;db,!` ($hdĉso{O6OYA!X,@WYYYYU9{ M/ghs r@2XP}tÅePw6zqrX5>oF3Yx FCenDn!_`>/L3X! w 'HF?~>I-??@R0lt߆-n^;cl iߋ xn<|[bHNKTX`M~=ҝz?MNhx R-!`APM+'8!NR6t  6u ) Ƨ_gYڋx RM dIjٺdlWg / ݛPĬ5Sݖ>?˗y^=6d&vn%'O*g|t?k)L`G5mp"r-9&2wg:`T=OW\ɨbku(]vex^dx j,] a ]7] 8ȼ8j ƥ2\/-@E~Dp:]vl+ mA(\F+Z.9Vn-SJ/Po"*r6ķ=8rl M!әXusڀ މ9*wU~c.4ʶv)GH7_xɱ   P,RS+Fb lݶoeu6kNWbB\w w[)Q6+ib.=NWv7VO,CĒjQssZFL8+FRI%]ш"(@zQkwaE2# 6| w}PS'輳B+ AI`jweqJe.% aۣ2}A4nAFGkgMܜjOeg HçhMDE'@;NEX=0Eӆ=5N @] U!,_=6"!i) WoO\c5Z:wP=oʎt Hw^̵bVj3u{q왐}q ͘ 9!Q= /ͤ6>M|=|dt aa@| Nto1,X53-r֏j`h14\.Whi+v#{R=|FΘ(S((Ɠq +Fq밾Ik3m +Zu"P RMÅVD.|F׊,p SȞwG{0ӭ=[^E0-n/&C`*ЭP< l{aMEQRҶ:m6E $Mm"Kv&v@k[R)Mo*",hH\LDFYj饤@n7;,t|N'C IjR[l$t!!56IaB9V%)r6V[LP".uZuIr9&:Z .j2iԖ&CFVSIRP&v N@0L.nqB2SѽhY ߀RیO}.P/0$D;(e[h?倍D@ "E)r+{.M_/"ò$oѵ8!Av(kp/nLCGO]WY7$e$#Nud HPvrp!XrzhEH(5$o:g"ȷruC8%IYBP k@.GTNh=$/H(&XmAžF? =ݿT*ҿ]olfhk %+2qBB`jK[btHtn:iJs :f뎺h ЇfHG2K"-yGUmK[-u#ܼ9 NMhjIj9H*wZH rKiKFkH4 Anh# (m- Bln TFْ#Q!Nє5" 9 Ap[6?cHUPK)viz=}iiiii2/gf~^ߔor{2bGs<+*1# }wʞv{~o8jx /!/J6s?cDM7i_wRj T]Tt\˹1W2Y'LA*?Ϡޠ}{W 34It(i?@E*j>hÿj«aQaT BQN5,x3`iǮNaRЇ!"TZPu:;(eE%Y2" OtfBFgAMNEN@wo- G|<[xثJRF6uN|WsAg<~Ug}?rR{=Mч7Je @`gV䠽G9g=GvfWPa/C=ig8Pvn֛r y^/XkuS֮Ds;)_ȰA<*{3|j=Tc Pӣu@=C"1ԣlSH:å-_(qK`QOQ7E}UԣBk߻. RGL[H(z$Ƥ8I.cANۀMZe(:7?$iVPk5CP=}qkSּ_z JbF*N᧏iPWs>!?oa} be;KJɳDQyEr'=%>;?0l>_m|$UW MBb3ąvR.橮^&zc%}*#շ@S6Nٞ MBh'zBdBO :ԅ*~@31q{;AП{|F 4bW>6ԣH]y@H: q#N:7 YH=RsIN;[UTZa3pYO]粃\ZWI|YO5+|Jg0%ck$ɳAS .|:n@%'|FTqOT]~!uJczIItBO;[8`KkOS.XUԫPzds}>犟$ DCؐC4izbrA ah֮O Jco#qy !I%qqCbOC~@F_4ǐ\MdO$B ( I,N^kl%V |`?idl ]!TPO 4UĤ i[#ż> pǦ-a \SY jCu1!k4y?'Va[Xh]iD ޔ.y6u4%PLkKGydđD4HH0%5#tdw?iR%xA[,UQ"hJz1}{57ء7%Ғ vTS͐9ac9Q:QS$G$(̀!%G-AD;d%KFJ,iTE/Q"i щ bܙ-ДSl4b|4-Ֆ@ d'$UtAH"i @j.Ux<Ax^+<悍8  C[E!\ %|4tyD k O$+yWb Bց'!z$A8"h T}bfI ;(BDgqF2@cx$*;r23ʛ' }#5IR>Z{MNe9PΛ(-/w]\ҘZR/cE*U5W=A*RFpqW X쥻GXwu>K5*)t2 57I1䖮3*)}g8c &HϞ$*J哳EL&4ͦu5bU{_e 3{'7óXESw6s([F.trr.iZ6= T]g3=ðhl ΂Kv4 _[ll H_VY-6gR8SE+bxԁX q =ϳIFgȖ3~[< oWoj,@;}1NPam䑞B²E:۾YOJ5Ɉo<=AD5aϗg=\Q"\ycAS|( OL\z_5ᝩg9'{C>L3Z5c|*,%J8V/|v'[[/2x _K |5ELJ@W&Ijx+!`ma [Y} 6N;D-ܷV\Ԙ>Ov5v$cN{_9mo[5h9 [. K4q}μn]z5v Hkօ"P{/1vM\`|dY2Ŧ_`sreAXym$'H07 b4M!"qcGI)۩ J띜\G$ηC> ՇdH=,`*M@m{SD$cGRd)v*gWҒ:RgO/Ɲ:0 <ؿ]P^؟PBBZSYwyu섄ڬ˾ERbM{!3fTJxF,AAY$giB@~P%wa |nl 6-Q))7/")y7zap=`b/"BsNQZEAE2sp,c.|ݣ l\q;yށ^Nwar_۠g I'Mm|PXv G&{t2@?;BP_sfh-|LR"j)c/mAKX8; xp|{n)gGow \.Q 啹`C{D){{KxzA/ˬѽ0.-2B:Y~_W>8.Ȏ,K2{3RbAeGAs>?CjE\9c~q,q;ەkt XB;8gsn+"͙s.tAH?B UO WnR * mF/ζZ{͈#{ahﲶMI8s LP717MJ/z; Jßzqu.^;cl󀌄i [se7@hlFb̩s#qB[;|xSM|=f'8D $,*#JMߝell@Sy+]v;z JǛx; nHCCD]2$-=1 ݇Flka5Sݖ>:Wx^}xm#LLJOU7~4-ݻS6jN=EzmMdp?ԵN-:xԄ{zŅɎ) N8~.gxy/A3> ?) Eׯf a~ ^Zhf|DHpYWHtIMDp[6豻ュ Ր V(cf q <""<ܝ-/Q}K|.1׶~ =sƘ߹8w7ϭqcEo P&kI.W29"R+ w -l܈y(kr,4'hj1I_-]&A"pA; }ZQ}ڂ|P W\r$d#ZTǗT8T+ ^sOltoMsiV&}/'tfv:v朖X=;1WuSWO}g Twa#/vQ*m7_CsQ)^F7,DRnF x1!.و;[ӻ(\41[+s 9"sOҨZXUxÐ16Жg .Vۃ\z%#5S#f/"8tC^ rA_L[ H P| tzrk;S@n*hVo<%PdMCjvEV!gkΡ`д{UVϤq,"=ƷBTZqH|qN#RR/$IW Kz!bM^%vYO^FߌMϱ|D/JT;w,/$2e4T+ꭧF%[A/]"TzQ{PTaU i'|q!bIMݨA-VDiZI%vE#D/HE9߅5$h|%,9Eg Gx9!I&]sy:gwh:(!꒖C2myѸ ToEV3p{ia>Ū(`#6 3I:RE'!'l_"Yvh?[lS{$ R(Np>Bx@O>7 xڔUԓޔSk^AlqC3bef]a6sv pq왆}jXq3&x8*GPǵ/,מNCaV2L2 o 6F͌y#a 02˕{?Z:Ȟg[G(o L@g;(#q(Fq밾Ikm +Zu"K RMÅVD.| F׊,p Sg'?۹߫Ȟ[IJp b"u]Xa_{AY;N.=7DdGYDU ^0ӕ"jnͣk>/,^5cD.;znd,R&,pVOʬv^f"kiB -vEmJ1GōU)OR5p , V8C:bRܩ2We[({S5Ec՘ZnIT qhX+NEb[= CM(``\u K@a+NPBu 0>w*SҸ]P83LO_gs86iG3hO݉C"r۷aέ BQy" >A[$VD"h,؀6Vׯ(W=K ͞HN󬕳$H'Bv,gaE'0@&ےQ<|I<=^nW[}V^Yu7W6ZU +4IupY 4plގ~2AK"x7fnBP]&Z؀/ +i / bY}gNNA/W3z~Zh2;ޮ00NJ.hf|#kcΞ`.]qP['QQ3?_y@]Flh1>ӂP (jz\ld䊩wE`OCEVVoMx!zjp.0J8\[ѺgM|q?GD7Csԫ0.`~uE;-gM]&v-!HuL/6aƲE+b՛kTS@?Baj \" ⸆ vRI*{=k4w @n>d.h1%z|0H[I06K_LK[_̙TJ^uGj{eRS"o Y,Q7ó Sw6s?{Oڜw䰃b 0qx+'9^%%u~E !6sr_c#LOOtO,NBI k4כPgjj9.1o/,&'Զ-;GF渶ⱱUxLK9miF.X86iF#tbiQcJ>O(>alD ;=b;l@?Wc|MSXRl\A'Gq0|7yScFHe=|w!m_uLfY>QC n3Z6zQ."[:cYV^nZfmLiILRy5]Gۤ ɲ'g p,7rҁ$J9p+##*ARdqq"~K@dכґX`{34[&c҈.>ksE񸆁b)Oy& xcXFc M^3ۂ?Å I(3غfl `"dh t$vw"-_y_I%׶%8A|-_sv&ۤk[dGe]uYt5@%qBh.{ yker CzfWd%\~OsK'#͠擓AzØA8jfyD }WRB'da'/醮ZO>޿Qj|m]]#1$cu?%=0W3qHpH.Vee/uR,Ns"._h,k&Ŝ0zƊ-f%bA]T<1DM͓ܦպqaZElc/@-8b>ɥMAgɐ@ 4>XW E{MHQyyshdKiY#8 YN[<\V! =Ss[֨\fؐTl0p7 [NіٰAŊ3yuq=)1>Ե3{\=3׋ ګ6i}p Sdb,:Yku?r\ZfL6$2v&[A:-g@&0)׬egY7ݝrˑRm*sH:#VS6OVr0wR?#H"$H`PVh%J>HTf%EO狼A+ F2@XzS=*CH>CB,!WZB{*Ј _\! '15a8]Uj>떊݌7}Fk`YGJ/$->3uEu\em~mYǣNn粸Ctc t[WqZyk?J]#oVEHz&'̏;S#jP͡LO_W?ɓi$?Y iّaǹt{rT?$gt}6lB .8u Ҭ;v1 p-vH@UqeN֭Pnbjl~Hj, _*o3 7t^NIQQ"=)nLVZ.IX '?v-L]TUk6~c`Xl ,6܏i3 S ʼ>Q0UD5fb!m޿๺^s1R-'[=xe+Hh'p,i*n%[ZGJ,n*mҦskqSW C# xa8\2Ю /`xpWj"Ə !#;O x? Frb(&3b<&2 hS)K+Ҧ%=E|"L)9ZRmAlAr|En;WҦ, .%\lOg~Vzkt X飘oM]qTL4g" bkYMUИQ5Rr57'x)n`JvST# U\)^US'5m 癨±NO%6NU~RPŠw9Y5[ bh,RVntd OW)'Іc720 7$Jr!ʦc&+m.l(2h ?t_V6T#VU6Ma(+hZS}499|GM ޾DpHe@S &S߄&VN6aTGrR OX݄yg@M[4)gxW7ѹU?7:Q>PHK!_ "}AΏs׏8U9[`9U5L8 #8GoCŹ*ɧK74'<`͞OYj? ~zp8.oQLXC ߆@?}1 uKGIQA߄ryHvAJ)fzk_lO0sп{},:9~L2,AH%g^Qɒl/)ōy%X)HR5E27!Z'6"kA h} cD(2l9Mx= 4I:o@T>N5 |+CyL]I  'BwJHENo':>.υ[L&@7C|c! 7a-qR&.Fq:2[(whORSm)8Nؚ-c5qlzRz6 5)@)m+{ԋb;cPa&/Y.}lGtY{F@Mc o {ƝqD7 rBxf)AgaIyo \o@wCi>Sf^@eNjLD_J:CAx$jk_| Rn-iJ:`9tO"SwHtt?^c׆>7(Ue5X7X>5GKlfXooIR[%hNR=$޹msݘ/+s4]T^oqw\ fb&|_,*wHɇWf>)LTAB*` 5f7ad ,)|̗)/QLpĆmM!tf6k.]H75cu9]"A%@C g@L#sf |}hŐyg^۸9 EX#"H!5nM/~tTBK.-/ >_-ԪkjŤc3_ nKUˤ_-K^ȣϣIB HY8O2,_HYYhqe_"_,~[|VM7]^?ښ zT\*IcL!~fLuِ9- L}Duݪw[rTd }\vZ, xg*D )N]QR_?rmHR =Bw-wsM&d/f>ٻ In Ϸn3DcϹ2^Ӯ ab Vܴzu&7<%#Mg/w`>|}̞ ^wݺfc>:eFm6_AYsC" a‡>[mV";7yqD& ic\i6;f$$ŵSjQv-f,*:w_@.9:KB2a3z pr ;MgXCkD.0pU-̅՘" W a߄dzd2_ϥtMmL,!k.ьS5?my6 !p '_A2a!)q.¤4%􁱥x̼GЈ&0WwH3XZ ãk6AF眧qnfTEJأ4^ 5bo/[H$tDjO)dbИ&I1V4ɦ)`8E|N?X\z(hƧ.ۿA%,_ZX}!2@w-C r51Y~î#@ZPbkLaK,2 PIA4کxFr(f:P&mz~g"r+GOGH GAMxE NLq=8>搚 cVf> w1(SǯgL3ƤK*gث8k[*>?m w;e'#J$ErUx\c;.ٙdvnKESŋ$*"Gj~u7DRx4"Fhtn:8r $/ъOIO2س0x1qg+ek*&b* ^;%d#z*p4V(\1䀋6 ^?W. Ǽ&X&`=z]Jn"@KN\0WV;NN{1݋9sv/^ٽ{1z1燿=jW뿝ۭAёʒTA#_S8٤B??wG;o|Rnٝo}C;of}nŮߦhDv;3(Yhe1+[o5jK(eQ2޹nk[߈{a@ĽKxB,tPD,~VOL7@mnacէ0q{β03+ҨY1>|ހ 0g%[` LMJ00dx69;f̛n agop YgH~(gG6"c cY=P!2CIxyj(ڔΜiNm\ [O/uqym&`icyȱjHVM'}jgg$L0Y&XvҾ稸x2M64+hOw)8rGdqNu$G%9MإRKlsa)O dsX7H /2g&1sֈ iXLy6 MX(4 ~M3s̠H2KA3<0G;̬ܥV@HNmp d3E<\'h۹4\^,q{4l2;,q˺Tչ[A\$)Q `%zcTkX`t^"-&^r:xz`!60^9P+Y|CGM;Zµ_ЍpbG wFFT#7qC1UUtXC4 vT4¸LxwhC oD:gj,Zo! c?7-6Ìm{a|io4O&V\Ѡ H$d3rȗ'gr㋫;r%y cyb{q$s;)u"/Sg3č{  VDjE,<̇ç_-' p_ڈ'R=6a]qUR{TcFMnЦ}Z?| (e3]tR;<t߱:֙ꁷc Oz楾_EWBLI+ lwԜ~_Z[x})K'ꮍԌʡ+D{,luj4|VgPF>툃, CF_^2USJSVm7lzxtF6g**ƚt|N|p-Ĉq@Nh}t0}|nlV1$bRf1ƚ0iIޫ  7$c\1A5_xx~mh#6 n3,pǞs>;RBVQg!hb1Wa@Kv =iCBx %XRQ#M# 4nųfOlDE||tj1kԉW5d x3Ni&Qڗ$yS8cFP Mu9ah?8=Y 1=}{:kPpx!,o_]v?87`9Ba{~lў=](b|3 @٩|~*yfr{8o6O50.x,2];fW ޳:Ӎ{pfFf0cɌզ}µL?"==cg5"e%:mrtTu?.m."5u Jk]-gFPtDpu\?Tם|Č2iCyuqIםuy) M nŌ9`Jw 3_N?zGRǃ'ר u`yuqA4&r.Uh*ڣv<ގӊnW? g#϶?O f DHvJc_Ouw=qB˓1-Fn~D%zoOlӳ0(݄)r+(yGwϵ;_vUA#>}U\ћhB .8u ,:寲G% y X06マ ^vxmo7{w=})t+V +Ҟ+}ծRWy]Ԯo%v]}]XZ#E֌B ΋.mL9m\$,- rKSB^YbCUSU< 蚃lM0>|sX`⍱`9zOMh ,FLH3pm[XZgYn O7(u#/am$ZʓM`}!U]XUc㬱 xInͩ/Q>#xGΰRB,'q`œ3vHHn jBclI$V8 &-긠Q.fI#^>ݷOJrrq?R@ YD*ؚ^m"*=pI8`F"knkRpk1C[)lI~|XDNjYZU&3qAlzso B+oO?2%Rhn%,؋^U#K5[q*/% I oMO<ܜ]㝢@ $,KqyuhVŜL 4\{4模S~_ذ!F(7If Fc{2߉ STo{XY (VkFϦx/>tFDF w sV~w](#gfNChs)PVx$` (BvӦiSz|+R:ZM0)> ]dnbHy N&d0 hx^@DN*9 fqGv ,]=wsr|7){kC!n1,P̲}lۣz\vLxޘt`* .㠣}p1j= 1gO7 !^/'8%3K0!о%)i=B " [a0 7L{a )JLQ* /{5kvv-PٟO?Х@]^Dح 1PښJBkHER2歃W+cP?QTP裩 5Ck&S3֬ǺJ洰,QTQL< ,4qS GbvVLf!2fcLeG1{SJɦ f4U6 vzTfxC 5 @ЕNUTtn-P0}jn:$fGi sIj-U<ҕ^]?ZJPԚk3Pل,$_͂sET.fVy^P唶&&QKSnzhݶ! Mik:msIMAUTԚ*(ykт,(!ںm*v`U4uh`hZyJ pV !P0 N!;岄j0sesr? ˕r;OY.i0vxYs0e̛ۨE{`u, 9htڊzU@yTt/<&1v+14>[7*Di,v6*n`( '*U ب3Qn((/.81oZNK 5Lٍ-Çy<,/Hya$ŇCZVPcPZ 9M% ZG_$렰NS6V rDtPMzi`MBYea;E(R(7(t 3Ӽ\kM% XbINk4 Fy~\:MC2tnk hPA1iF h3Lc\"%-PZN˲6t誮]=h4l jk nCE_&h*#5 ]7 0.l(e) `2cLN@Ƅg9[*֝&?W֨QF]cd]ISwL8tұĽ5'`ڬZ޳-'$;|E ;}EHqnGȂQclݳᐱl D}b9e%XK9$U*+3++/%{7U.nVB"N xNkdy..ҪҮ{le  `[x  w%^Ⱥ?&K ֈQ Fo;`NXS7b$~f[X<0MB(2i_&b#]@ 刂 !-4);1tTH$R+pnBUBRV(@R0JBj)@ihR4CR <%gg?-Pl%>lɇǣ3кf.kԺ&k]Ci]iՇXG} 4{F3R12RGL#$T=Rc26sW`w1v l '.E^Ȋ;s<ѺJ.;^i+h+Z`lC_wy^yѷٮIN2(H6 aVFLq?g_p)MP- /IaFͶ(zZRMV6֙ܛ sYl_-r$8|#U Ӊ^[zz]{^lf4Jm*_N[:ozZ>F̃;tO̥QȄvL. Q&ަ:l%rRZ?S&17dPS GE*]}';B6'Ij"2F2BAZA CwRR ;& vWmWQ2~)*<݋GꁘX4^f0.d*9!$ck}iJFx*oROYY<gS~#FJxPw1rR!dĺ+7#ې:IM~I- ZЪF[HjulC_67۞GUK&jh-vp8UbO?{ raht\F,r6?GL !UƤpMMަd, rq,>w("r)6)l5 EQ']$"N,)ؗDE 9h< 5%m1fbrp<@-FՓPE)쟱5RI/9IV(cԺ UG꧋%Tonx߬g>v'\VZ![ZjFEˏKǯ<L]л*TJs`k4YTuJ@!RMޙLw3i굺_jVi8F֓J &48uʜwP)hTıSEa*w61=ZyOi1 :=>YK$Ȍ@82*RV|2pT7R\S:SDqCQ%:s|4*UBb4Tl"bEP5m @juN0!NGsEpjN͚Bv _XS_WJmC|Aj NZjD цgWK@ R( &VzʹKݓ#dMr-fX\V*VE 8@K4kkdsv,]iز-aT~6]m]^i+ 85#Iҍ>G@κ&|ؿPN @ :'q?YG8!`4GR-CkODp>9iS r>~BOApRMtb=:]MതdьuK*O9yS~k{ ܋>mZ%C6Tp/JqI 4 wpO_c5LUŚI];7d60" 1kTs$u` QA{+y[8|ťKZj}SCַcl)WM~TW5)-mєin `4vh`%` &ڮPS+z󡔟CjKl\U}(yjG VZԶDַж$i˱Ad+Mp+4{vۺ-pg|'iQ7eMƏTΉYUWzw+5ffUJP;9jB,<nSw}d zO(\nCOBYUH9rsXQZr]QP]^/W>aeSR"^醔eC i8"Bɒb߿wkBHNh:XEr'Aj}XgH\>tEM ik$Z ƪ'3Lɲ ɒ{Ȯ]i۲#Fb.kB0n-n{` hͅ/Źm ]wpq\AEnA oȁ2ISp, !mxLsy|[qzC<ѼrPtYCp{y~zoxfYE3([rYLY8jC0J3u ~1ZmtzIAMzXau-ʋn0I !`J.\Gwt̓Y |dEwסNS?ؾFKn4ne}V^Wbu`\qxQ^T#'B ķ4Ns³"59d;uwR_f#qkq0dbM-ygq e~a߳.qm \t(1}zx;"p\Bou‘{Qa Ga4j-.j%|̦WwxL'vչE$;Uhs*9Lߥ͉˴91gߧ͉Y˴91kߧY􉬸V.{]a{LٸLыzq%o\%ʸT5.5ݨ|mw'9^4$P!wvvvvvt=<$u9~J1^ |@?e4!!$q@ 8->wi}?1\!^ғy"ݳgs>z2L|uTA8Ck-?CgYd Xܣ)%LQKx܇i5#79a1#%=KNf7agX*yэ-܁7իRye}Qߍ,B¯ GJX=c(F:wbN(ThӣnOE>EkÉw+)W# qR90+Oy^xN?KA^$?_`y%%08{˗C An9U^99 |L4aaax!~܏ހ,yGٙ@/LDZZ8IDJ5U'nShNۦo 6]Y]>< 4 ai©35V.hFaϢ`-R-42y`8 ^nDܫW jcEmO" #GURHb $<"nهB(8'T|AmIS(Z.k;ij3-l"J<@Zt%xVH BOl^C\Dpn)"RKXR&Xg Pjs Θӝyc/Za!P7ZUJHa!:!GB83-(L | g%#W!1x5k C??*Np.d[ Ϲ`N& eI, AePơɤh|V ~z~-um$Iw~)j1vۤH&㎐HJִnKnnl0@69q퓜*PIn2-ʺ~\\ސLd/?dp1|>˅n_ pP$fe+zU6 o a&=_gelJ'wیW3ěoOb>+\ Y}{:m7G^1OӘ\Z%'q&s1_]9ЈM;r'۟:? N]]2M]uu|á=7&.>Ah)C$G̥cIp =a'^cAh e't#/ XL%t jVkk|u¶Ioj VX/D05n>i8*xLh݅;(Ʈ' UZnlޖ->mۢEQ[?V/ڟElja[_{t@t6wV1=3WUSJ0zqÍ{FI4NQ(0,BtB 4$n? G-9JZ|Q) b(5rV­F ܷ@Ғ5k5]A yjlD'ӊ>VtH? E>(L?'A\zF8W KP/yQJ/0Z w"h5iI!m^o[Am^oYj-ʠ1l)ޖ.pRbKӻUsl\!V*ZUK Er_-FIR"r$i 9R4'#EnBB9}H{9EG|aW)IVG Е0XYhBEvA>َ : kTZ>Y/35 5dZ{mp::TDH+u9F#h6t7$$V[&=F@}9LQ8T~!\_x9++H{ś19f3V]CJ[J3a\=747`4gPh#Qw9u~G\ 7F];K vظrQcP:!QM D'G8 XJI{RkQ)hoc??BقI+@0M[ve5AcFϩDgBV=I3PL7c2*OʞQX5){-U<>l}: bvFM/7;)RFpxWCâvƼŚa `1TH],qPHgOAow9ᢑ\y9ΞX1޳SXǝbmͬMhk"yW)BV'{tr #Wb'3TyU]H-@gO>tmdOl-Dd`uCPX1SGrr/ɋ9mD,"u(tU&A:(,8u'++{݌zy ^\jF m=PJbX8&llzIB&D%թَ>ZZ3Kr:^\2an,cpi3-+$W.ylcY[jz-}.>*YVocdxM(oedܲHlM8({F;(,խ҈"MFOe ْ:PJS/(}r&7pgF,Ȅ@ͺ/n%x ~5,?ތ^5j@++3k!U nu%\b:^-|k,OTb3ĉ#s~LG][+ #ou !'Uuw23)ůjBtBƯ.B,[2Sh:~M 4V-.>Ko7 ;s3 'c&`N!d; 4ύL7k:DUqC X斂@?d.`"SlB=U֊57H "n.xg= [q@)YNDeg٢w~ЙaKp! {.i};awqnfc5IqItu'#+v3ML\4Dz&ZE_cp|䏝!\&"ԙ/F3o.T?%r /~F@LPiT\вvv%7$S(DXYۇ^=Z~iQ6%Rdh,(8't'jMNN>E'=xzONB> z?ZW(Ti뀀F!~#OP];@)a|7HB[K3|%РWAq!<=va'l gQ!p'=זpomׇo ^ąWY{M\,cf1 2$5Y<JucTm6z0j ڌ<]-5qѾO6@<s C`> FH5xaG|S +*?m2 %<umy!|;G^~h8L7W ˃;]߁b~ۥePLJL6M~q8 !>"/3Q,z$qlku:%?0lj?a:S0qaJ< JvG%#00yihMJCdzӓ˸fsR)nU꤂kX GBn[kmJpɍ1[-Gnr쉟>E=$np'* [ҸnB|dcTjLn7aNd$#nor(5<2]c Qq.Е|oHC33Kem)ΜTlWZA!mw׫d:M9'wux}6+yKՄs mϢQv0[SM8̍~/e %![c?Q-.zcq|V6ٛ7+[ \` ܮ I3H +1zR,,n3)I6ঐC|&s3̑B`BH(i#E42W $LJyZe{l{ Xlko3 5ܗv >JpIJ9:kOhfCP<.Y.@9e%#la}0[2#̝z1IEt;|>ˀ@J*LQ2-j77.;`2cbwnY Paڤ!峢bpTOIӪ7mJĵ: Z9%osH8SxŎ]sxqt+D_Tv]>GKD\@ǪEn"iKaz2􊏌EV>)jKO'@L??=6P ^YvM.S|Gn 1b4FG/8_v_ɟMU^2bM!U}vXCwhONI\ ny -pC&?YpUGu;kk{ s, nlۼ3fg\Ğairf":zۙ#7ew~``tvz]|$@za=rܰ{^}TwvU{|L@_ _1ݥzDqk-֍roK<KS?>O&bЈ%39QpTBQy|{Ҝ]=4-0@6%?\tD(y$_ѫ``8DcWߛFމcH{U5'wwqzU½M K?7ѧs1.᤼=#/ESWiL.-p87".|jǟ!y3`#;6g~.ꦮ:@Gr(t$jPcSt7c#;z/?x(9/6D^55:a7\qɭzE Ά:SNh =h]-O)/WTݔۢEΊJ=TRmI߉IlZVBhjÙO)&r~#@kRM0ZM'%b G(^&p1dzǻ%|(.i]ȷDЬ T=b zcBb =UK]wǭTH#k.IF-:z&-ՋSx^A/]%eEE4&R䱕<৫ E+BMo[սMU!d3bĠd*%*%8-/O~=/J8y#2Yb^ )TzqJ˃Q{=:ҋ")zEQima#ཌྷ<] H9L54-g97/lRas.XrIJH9 f)B]>Dr: {\( Z칡"G[e`҃smq2yz1<\4d|pCz֝ q\o:\8r,2&{]kmJ[d%A#'gDn!ȍ goy($~lA\yw u// >=\.e*<{fv0ΕQ,DSh6s"5 m|{݌̟= ^L AEKE_ZUD=h$=K",ŗRzIQBW:Lzrwkn.\yQ  UƽҳWay\Yj>`A'K 2 #eK\ŰK"΄:.-l;N)RF6(zYS/nK 72wEݢn[\k rooeM)= ;mIןbnؿ2hRj^E/e:{*AWNnVsSr1p`Өֿ=pɌATAٗ!RWZaWt` }bt΍]Tݟatrg\2qfӾDtp 7'>F1!vd`>qW+3sS+BgR uaZ6] ap_ڴJV@zEsJD3q?ae-lQJ"twpmAp+8F6_mqԝIoϛ/"`@H-@^kުTlnAn]t.kʙ+?X|7>k|"IZ?|Hdr>rZAld2' 7 j>#O EQX^l*t"CGG€v: n{~/܃ eiz^C#;*mN6j} PaB:7̧.qU˭cLlf^_x!jkgC/[LS'L_@'`GsVų]ҌKyeq?R4? =ݣp`GKr4p}EEv4:­oC,ɩ.=[b=H[ 1]tP=Fբl; 'kk%FbCۖۡm7LU>KcۜpѼlc,gb jX`yUo7V7+^ !63zUs&VZM/i[ hF)Kg G G |!4AMVQvk x3S$!FH <E{w^͘F'6g0DNp{&npC"deF:!Zn>Mx_Ǖ뼝Rmr\Vr"_:VֳuJIEZ:W_䕿.wkR,WJ$Y_+B&H+&%2vUefޜ.?${XO rQDg篮̼?'R"XLd 6}Г#!aRCDdl;#L)JNɆ;yPVFcmK\a6ۛد#PD4XSNNdT$'q'YCƒ1}) <:"gPd GbJt4daЗ[wlI/¶ 3bDz,0IE9o1KZriHvbҨAAZriuܵ0qTF$ة֤^V)ê~[#1j9)W[r$'nuӣo Iaҙi%VW;/%6HߟɔEتTjEX4;- "$>& c'\1FZšS;]Yz*÷i *9z"}°-.wA3::= kE:ݪYE ޮJDYI> ;ɻQr%P#pYF;&AX>ϭSrAn\w -PLuK&8Ul(UV)*}!]w. HTSD:/̧%[H+v501S{kahHmkb-]mthkd$D 5 FWmT5gMq $7W*RIq^V;ݕ ryB*ާ<,nY~SX9Q^50]ػTHmp]+Y[rv m͒Vrb+v%h@.3suSB֘ݖgȧ9شCHtH-)-ڮ՘Z̫@UV<"_[SdtTػ칣eī+waD}:OԪS<6UO/W9z3=i8ՙcD[Bڒ:5=_$s(aW΍y }le|.o*)JU}Ľkwm`aZxl1z RmJgE-!S5m52[W^ȣ59W,Qc 6ϒxut{ZBP̻D4ؚxm@<ԖN3: Pb 5d{-iu qʙu5M/*u@JkK֫'Z;d @o蕰/zӥY0a+s-UJ]TQ`7]tla^ѿ*$T6W+<=;Lbv֯m{yKqİՅQ*XkG,Q;Vl񡔋&ϔ|zmJh6%WĨ:BT+住a=RhZv +1fq\ͶN ɼr[$B52kMwaTZV=>%DvR5d>Ǚb<ݪ^Q^VY8@Y1)e%*IgĈVzT9ALE8s~x}W* *m!`{RE;j33eQiR*85s!r@]ZI4AzyOOfaaאXB|2,?lwQx×ov}5p:EȫOaC |Rͥ_>xcbz_f޻zg^-Z^ORLH&pǔ,g'RʌT.R*PdDWյcxO)ĮNM@zg*N2ut"2@}#B!u!h~Bj =!e8ȯYR_e\ i!~~WKS?>{ӳOF ǎk{= 1l-9*~wą_*Hڨۄ%n[B 1XEӳӛxt|zs1&ǗCrH7gCW׃uc{OAcŚE]moEUXÊztq `+ eH溣sulQL ]V n3%/X: \HKOC؇;;VuE+>]嘻K|^ _zMuuBkH5b5eAd%srͱcZQ{TowR]]ߌ0P nzkq +[Nh( ׈>s=f(Nj+~MO:#A).OUM_GP+܈UA"wE. n5̓n:2Λ|ӯ)i5ZUctdԔWussc#!j+9'9Z`ppCxF3ulǩAgWe2不*'%eO7=f<9aV\z1.-dHt,JjbUMND8GҤ_?}}.g0 6˛~o\J0F(Ck6or[ i>-+h'wmp&Ң#9D|6Mm#b.T?Ú菥n>F-/pZ~׽Սg+\:%~c#{aDtfe;+| xXʽFcS0}FSHYٜb*SY½]\IGϊ;XHb$P b!B.eC EE2L "hYyͼx)$B=F1`Uh:MchCb[ |8\Qn`E}ǾL`B`CImS@W1UVm@B6bχBaIH[ 5me{8>P, I`t< E$x*L +Bp0S$28L1K2ma$PLJ`E(p狀l# yS81ӕ4Jt-ϓiS4&P&ì/$6YЅyEitud!EW!Ȩrfp.$DQqkcappS, j<=a?[(S $qXtT 쥎;BO1}m$HXJﳀ}^ՁCsl `(#h>ɨPG!G僱P̖8$Bc<ϟf16d `cy_Ḅ`-(vFP]&, 5[T'tQ?$q*N rŖ"B똪uO=5bӻ=NcXwS!2 !\Yr-+#Ar4vx.NǛ*abGL>KB}氵lBB\A H+QMf`#S\)e $; I a!E&rL R*MP:T:kRX@ p$pabB[eKU X(.Kv A(-p# Z8~%DKE*!+…i˿n 9hѮ茗*ịLh?n2mTL[Q jQi4Yj,lԘN_;-g}Own0RBP %@ۄ>~יO x x70=UJ1+0$hL[`#'jZ ?'C5p*I[Ŵ=\Ar$`rv@伩 oaE*TȖj%2<{F/BcM\p!,u.:;6:0jcuOl*yHx 0O/זe'ߝ r:5R_h sIy7eOzywYڦs[.VKnh5ƽM)x_N/֯4}ÑuvF7_x3#OĚRg8cMtG't3"oO[_*08Bsܫ]kM_1w[Vl=V$ g`)KŏH01lӽnEVVVR .OqMDy23,%.ɾANjdf jJ\Ff;9H=loUplCN7=ʩ<y*uZnRRҖKs7Y=lCtO͓'%A[\&Ls%MLph9;Z%sGI癭x;o_)Ynx2--Iw*+n)ts.^:~|I j- X WL˯Rl`u^EnE}NR K4;5+=QܒGQ?fđ뇬E7)zw{s|.秶ڙu3wQZkG ٘e,*(q4҆ۇ޹uKUzQJ^.%CFeU=8Wx`ᡞ+z Laƍ[/eI&fݒt7Ss؍|2\w}DuEk(72[gT[mMOOgf푑xWL&KzJNLjͅ RsRyc9V{1? y,"FdWY5<i޵aʨnMb,7~ʊ'}KU:G9"w'vXiƦ{  :l$v1sktZXl6 m) 6*ʜe/h==W֏kDw,9zQDYNԳ z0/ ĸK3=?#zq誃#$+Cgse׏#z< :_XV}(@_N/i¯R;OMhʅ+yW374o}y! (7k^yD 8'OH75{Ɵlxm*()^zccZGL/bsczv"?ZWf0}?D-7-3ku[(:tiث섋SS_8x?W/uvj6ıc sGune\=%jRG`oCB8H{~QH%)7Cܙo.[5ȷE%QiVݢC֖ܘ+lƉWnW5p,M#1ʀ28{?DwҴ ˛P1 >#3D>wjG>23JOʈ%:z50Zum?mah"ggQPV+p ~xn=,m=VU쏛b4%Qc ghLi$355UJDŽpoA}<(h> yo0vP?h1Cwf.LD~t=#jr=MWMGҕm1n $1:cG ^o{f ͔1;ٳ/eY$$aM EwZg8΄Osw"CV=IDpH &#9{l`:<LƇJ/B[*JGfTmoJ0l70TB>V.c 7wH L4zGs*o,௓l:niV~i;_Я^Z 8k|wT dN nebr{cs~AM֤s_Mjѳ]>^qeҢayU8ζ\nt%Ҫy޽_q1茶-}ޙQz $wzhӈ{zyUa5EPD* L~-9c3vD 5qG)*{rk8?>Z KS50UbſvP嘘T|Zw1O.5Ҷβh@E -<$VhGurg&| SJ͹(eASM??H?.uL\aH<#!*N@2'8N'<(={K$Ē kgnO}fJJ2RȠ#ܨ6)`7ĚzeFVﵫ{O9axLSQ+\1$]@e&8B:FJ5W O#e,xǪʻ.X06ﭞpiO7KE|{ɪ_L&g }9288h:X%)$ҰcpJGh*';{dVr:5NwOa-Ay{Q;&R} 0옑ţq,}p3uS-͗W'M&.R\JaDqq7BFuJqE]EHr!5a=y)#g]8GGXi{Q̛(MT- ҕws7%`20Q{>Tϡ.I/Anx@wYߩ)(F.;#JѸK.^xf.Lai XRPjx4?cJGI6ur2A[b|Iכ>FeHOwߺ4] LwtUuvK:ܔIjy%6k67C9AI!<J=CZYSYł$>k $cgw)ҟo!+KZ~.(ҨQ2d5'IxaZ-/{YRo[EO?O*:Y@VյB>QQ}nG8_[/Wa,/K`1^]m" ñ~p0ɶ(Z]kԹJKK~T!YȞ_!e} *ōy=4`ӵ8Ar,&*vord4nqxbU*ldCEO?47d Lx&PSӉq< 'n*a.~`xE&A q7F_F;ؽ#2pfZ9&x+TO x)>hab4ED|e .%I?XOGCaEB/Nkf-z-()[I5 42?sSSP|[DۅQSƇ$Lo;}& $Tު<wMٳ#$X>= pibށsKG.P8s͵do/^$Մ$_"t>PU$ %?e; ;{5}:bp|J,[ #V"z.9:~ ϖ\轒UI*0%==}9ox䑫UJ|ZƖcNJ"ۧ]A}L.TIHbNWKƿxzh7_wQ%4>ovf#~At笵7/Q@W\X x܇4G$ڭ)ߘ{HVYE8~V,nM893,{$Tw5ɞntƊw"غteƬMYAgWqsŹZ't:B HhNBkwySP/`$-n]\K̸kހUvwĵءw,~V?knqK:7S劊cKIzlec=}4&v]9 fEꕋUEkUOt n!ثdi}* $DŸXghe}=.'6w%E }N眕]:Ni`469f}Č/uuH/t1vi4{;8 4nyn΄b.E^6V\`h3x9䴑/`qP^g!Oun|V7p5T~<<Qv3KӉ?ع/ q>BtJs?o`mx;EP]YH UҬKJCO8r0Tvb8nT[gl`p(ӏf7 Tsb򕠪Ni|xG65򏂢3ӟ쥗U~ Rx>viSWmf3nQT9<{$ _y>A"梾]{&B7nZߕס&x݉ Yrг FH]ieMW-&؊xjU_<״ҷ͊y.@W{V&7Ɩkʺ0p10q~ G6p2EyT {e{6vnAsI8eϮwҬGrNi ؜]=w DwM2+_?սfw"ԍ*I>j2#>MVbMoT (&q(ɳIˬ;wCc\ԝڕ+It l[ sGC{ >eTz>2ƸoS ARst]#KU\m>,4˷)Q z5lN4XBP3&7uD1LU W&yTZ=3 jG~GC(@ne]7u-Ǐt˜cSy5QAVE&qǘǿxx/#-g?/?/lt' 3h9?pЎEGGc}>JH}4E>&DDq栾l-szio*&U_z0P\x!#R](g)~{ <5F)coYO?:u(˦:5NRHP|jM+QRAfM~w;y _)@3-0:ߦ$%&<88 C|pyuDIϳ3'qdaPYM`^XF7LMMe(1%c"V"LZ\B/@!_0;Tť~AJ#c{@`2`տx;m4F檪%%I<5)!hjVR4@~y'p,0jcsSj'S-A=<\ "wl׋+)_ T eNC@Dzِ:V΍2k")dFܮO:-XmBGWy-N`t_<0'l7M)Θ31F1q #N=V)r+++sgBB.  dTh Z l^Qq?8^oA+/\-l>Ĝky S$x$3$s|bh'd+ HƳH2j+b_ "4}&{N,YrKrJnrEa,!}52F#=yi `hFKa٤l\fmDgw(Ə8eҕ Ƿ2`BKc%5%k3ߖs-+ˑOpdC X]TfxA.bݣ8v/ΐ+5XڃFq4f0jd.r,aInLJwN$:$bH_$݄LvSDH!Seh'JbĄ֍(pr7iSϢI;b~4)̰F6]a,g XyQ(a9QB9u~1K//y!̤ Xj@\Nfm5q*ٻK,9~Ň_.6|h*=M~<_ ~Z;X*ߐ0`5F&>q(.ncO .r hi*AUy>y{ LXaKVY85W~Ḫ SXu2 Cߍ!Sw Ӟt7xfM_mۺ73UZ$]DJNO\AL/ V`MB:O_ 13 qOZMQWVnxOtjtHݩlt.3`FѥaR!HrbޥH23g?g|`Mc5AS2_Ҁ1>:+k|POټRbW; DIdw`Q\xnt]O)vN'?u!8Jr+ztXFGff^DYyW{ 7_ӁBW܁#u8REA=&< 32^e hQ 3{ e6-''xZv0osa0?gc˫G2yiȆX/bp3i~>_"ͯW|m'Lɼ)wnl9RvX0m$GqѡC4ъFC1Swزr6w!H# i_^|zLy!psZ*hie" cE!J|ɶ>eTbcup͏@떰)zGOV_ɩ`qyշw?2P:xeyjNqޛqFNohcb‘*b+8uM5_ʊHC6LyO ݩTۅj;?<--T^ϟU̦FٞVo|Xfa:&]8lxh!ǰXe[|ȍEZ!ሣs[h*A2¥U"&4ըRF^)yeـ9{1H<;-.l{˫،jQ/V]gһ.`2 %E۩s_q21@gz)Qof>8Kc\QAm N;w aXc1M3wך;%%+'gNF=`&>_Di_lvlrʌ}sō zrZemפx(m*C8ù*f +H:!Q]ĵnK n 7uF}uM(µzA,./ a 5278L.fkUgK+ (B7ru, 6IJy)~!lݏ~UUՏ%~a;WڹgvP0$E [yʶAV&c~ wb!\lmNξWC~VlQ~;u_V2o7)4㻯;*e韦n1u+1W׼͊)m\ec.n@o8*JVzr6Ay잩gfVpVb +6[zT-J fpbе@^pD9![ˢ@;'+ϯkGEqR{ZhpmW=ۮ %~a0d*M5}wRƾixזe]6_Eݲ\4rS D;ɻm#[1Cwn໋ot!n-7 ꯝ7QoگfojY gnᴻQ{`~Q=-H Dg@V~SHd @(?5$ߋwRM;)|i?6m~ϋ@rF{y Ci0Te u-eNt˺8,FoY+'H Eh\g6,Eb,,; 3E56!m6-2ۊeL9Қq yJsC8$ݝ[9bm@1ZZ wq2T叼l[,QzrpN56TiB- mvEZh*0$V=F~MmsQ[ +vpTs7{0dMحXikMzG=Mڧ^q~3peP``WZ)ڽ39reJZvܹn+k=Q(ɣwE{{,y;_廻v/{헟۽_n M/Bu◛Ğ#βc~f 3aQ~;y6P~5ߞp{gܞ )w<wF;3n7ߙp?Ѷv-XŶް;V{?ٸ^I?&|?;x Ui-=5Y7= spqIsqhɬ_i9NV(ׅrqɪAk$\\nnnn|kz$Z\(EA3:+BreY-)(U,D8/=Q+"PtbNpg Y5e-%ZVu5Prx$3pn*5EgP`zRkC~-ٱ#kЀ7l2k D@kd -KvpRy'޺~ iNGGfk~ۮަ%$׈>,>,>,O,O#ݦOG:Jg/?r]?‰=zf<ݷ9*DMߣS{w:B빹Z뎸>=_1NT,)'S1{>q 1/p8xD{M&Z=ˑ$*`6AK؛+3{Ϡ~КG(&Q†UJ=؛,%}l-Pb.Ti^YZhK< S18݈ݱz.&ޅ94 r8çh#%w'j:칑nbz Q5OÒ}džgS|Ac-aBBUV7f5S;]-H_{/M=j. 䤣""xL֙;)oKJg/KNm)G1WUyd#U$8H)}h}mN["/b;oi-:6엞wi龙}6tX2^9صc/ISoe[PʗXJQx1@jxDQVfCjY<N̠9 ؄|^,gdƂVr}|¦ LޞGx2}{Nn۴Q"5Ew(GtÐV tCuZMgKxDŽ 4&HER#|ojT!URZ7L9^Af88ߔ:^TE}n[֭n[kOcwgiliviiH~k8? >ĠxSJѷslKƶYy<[!r#MaD^Zl{gR/5a@8O,jilp#w)tQPPҳsQ!lG(=csEJW8 [\w7#JBkwِn?a4 jq Yx Dև:% mO669?;mgKrUWWJ3=PبtʥK4j RERq7ҧƱ ?pXikϑ*)ȏ݇3y7O{֫D"τ5CIa;''[Tik}jyV3|x@rI vsS{ſ>%FŅagehksuQ.\XYmy;RT~O}st&@g]4sТ Ηȭi}ll-9% üQv~JAw1{_wO1 )"k6ߚp jTurfBس+( sPVpsgFkJ,LC9ޣUbY/eLlv UQ\4?C,*r@ږPwn2)=A$!-7E$oJqX;}vRs+*mmb8L,,(y''A5, '{ C fXeJ2zt= ",CWZwδ-sq2ru&;ZrljFbӤB7gaǡT}͹ՀSɤݻwM/>=IN=Z0n\ v֗ 4KM] b1;Geg(!Q -SJ(p-Xh]_jC>nj?st4!14g}襏X0PJcXNVE,cAS!Đ%1555l.4E˦QOWc=%\Yd/ٙ/v碯Ï61*Q \\[wOˇ<DŽc6[M1p9:("O^tI2DmoȘabc}Fe}dyV?^Ozrn}eNn!raG*U`_ kc~p,GriˌEpa{A#˽5& ɬ'!8rNe5>=:RC~s2'HDvoG;N Z<1u:Ja^դ^D$j`{yq\=S;?MѢivҢj*M9iA0G 6%n] +vX8G]9#?Ag`%( ^Bl{'LAj,;H7a\>f`iS۩=4EtpnAq$/mJRng=kj>eFYl;Q8UޡE|C󘞉PhyLa` FK|߾};W5x]g]S5}isfnԨL(PP 3.͈CGN+'>ł*2ˎ^ِFJN)`#2nGɨ2-!#@Rw)+<f^K=ZZI rmJS05Hr7n<X&؞@bEZ"'rep'KMDKU_p{bZTEs0OFɜ!D1=-wiZK#U904zT:L =5L8+*1{F SYd꫔A YuuO7 &mMnIqG<wiY]P#uSo}n.xup$1 dKia Uudo+(;Nbڒn ]0r1%J.-.΂_u&^'^7|'7j<]19T7 HՔoov^NxV|b- z& 187X|9bK3r<=єH9M6vuX}MVip*5nFL-dYR?{ 217wX@D>؀×=4c\"_u6c周AcL\f6v2_2frTǽW,=%?˚?iVC;$&/HUR=F$؂0V#২PK5y.w'5HWdUn@fb  6b&f= qML -љR ,Bl@V7wa-VMCDx vY<<Ēx \;ߓHDc鯁1c21s`JO;,yٓd<}K PǓUz-t,=P$޽vym/3h\ Nլɂlf"y}Ĉ*|aQzdF22]ڢub~4v A/W;SAb2)FMWd0ls$ ݯ%p~H%`3-x')BtF4y1ιH9Δ̼fXV'Aa $at"39(zN3Ɲ{,HTZz@h320=(uZI 7?Q'Sm!F: ʎ!0ѐc毫Tp{8oBߍyIoCM_"ހm''_"̀9;jG1ǟ(Ƣ"q)dgר3uK]yO>ܿj-LP5OiJ@By -!)~EGMQS 8wL.%{NrܗI_҆]pKjcǑ5bK1E;<R&izšb~eqpM~,@$/:9 78$esK("!ח9MA35wl>:ͫ-GّvD'qyIee!1NjDY}VQUA.[)C #Sl̶n3u5lVYt8n7fɍO:[1kF'(ISsy`_߾Vծ#Ġ~V ~ @4ֱ!iz.j[e77%iQWad&p5#@갂%T䞠Vs g"'/0RO4HV+Bܻuюy1;B\Co]>3c? vsR+N Hd۳@ZeVs)H-9Քym}Jm.9(b)g%fl?ڍT5cVQvғ#opg'iDq)]I!((hbԂY f+LNN-j{_f5q0ovYZ:2TsWK2&gDLM k4$Qp,)s쏪\vaKƺ#z`瑻!(7F(_V_y  ܛIYn|o]І+K0)1O@w_KM\ (7"X+n,c(f[i܄l| 8S7s-T;\*X,ٺv|OM܎ 5l[Uq[:s]1i.Ċ#h) 3nH@]ZϺ^ifk1Y:PF@+~ ;]kV!`,2>d_$ߋJ}$b RES hLwɼ)M\O\$'ng@!FNLE0e9F 0q5%A=@<=Ge/Z+V1{ךRBhƆ6m.d}V{-|HM'ڤBM R@'u'P$Aܬ>ڈڍڳ˫-nu+T>UihMYj DNԹ{u)"bѰz='[l9%={Ku qc4z,:(ꧨu498i,6" <#%K%<')f`G9xx(EMVʢ9 *]BVhVlȊY7Wz1Od VyuBPxH;HnAm 1 &ajaё?U{8E^V{os[# -59@9)(rh%$lli̊SLbBY+#3¢HIQَ|\\t >N6:RV8pZ"62NMn,!ߜM:6nWzHt#Cm.B9-+X!21efhV}4sŃat;H.!~ww$PoثeB6& |F@&W(@H8801d ܲQe҈s* A+bNo|2~NáYc؄MZ綠 7Sw[SϨu_h`I@ٍ.QP9<[˟Ϻ'Jn|\R_>p @UEs~]m{+S-Wh$b"U;48xx8H:TէW@3ӝ~ʽ1Z붳9mpnn^g쿫xYC5x~!))I1g|X}$9,0u 4$CG\\ju :{F_jf,ݢ*CBO2<m^?S hX߭ s,@!(=[x]~zo)˽o&~R=UAϻ޺<߇ޮ,WM:V8ຠu]:>mo.>%E"ȎT]09r!y9@]ѲWS񆂫goW_FӁl)3/8[HHS-}-)ѳfövMj6L6 Jjb(P ֯q#l-.$0a2qy6#GIS2m`qv`)6vA=}1鮷}L)zW/??7a43քuCwggm8;a Gw}O7n~pA TB/,C_$u~ҖeV;FB${~/+>Vu s#y[=6bY*$jaU 8XX'MĊ\Ẻど.vo-iFwPee)a]RՒ"y /j@+>痨wڙQ OͩO2\tTnZta;:dlIfo4>1~|6_Ŵn#ά֟@Iyn9O+#+-Ghl65pW nv^p!Tf{ YYX|ߦ6RM-a5{M -UEp 8RWzV?BarEK^ PO|~5N,Z zw?.^J26x,'([$OXXi{'~c.Gzxe`8@C)e1`ѳ1R_OQ?VWAce4^D,[Q%[{imE2nm&[ַ{dl}k/"80苙a !DkwZu eղs W;׆]IK95ӟ/FJh2"z;rV3n{Ւ̮lTol,NS1R76byF@99Ev|B>R`v\ rx) y:ݞl.Bc{sc;ҁeKY^3ש2~7;ǎX:s9 jf +.PLunxIYмC–vT5W,̕ަߣ&UGH}?N9'+B QyLܦv;[lqق[n{fe)`NEYd[|uj9pX3ɕS{T v^vnz0jcO"PG[1[wQ2ڍP`FT&5XSF!GS93<xf5K7r(i;;{}?h{ i*!$Z8Ƶc_rtt;ZlhlvªPvX̴mp/zI)h6ihU}!O2טG~qq>HK  dJrtߐB߃jX~1 H%7ڸVCh7~,6St | +5d-!|PaT.RÐР7qHEe2ʑi\ L)AXo]"7{%+?l`a]a$y MeU5I8gu>vQyYG̫)v6laT]>:vSUI6պ {Za[ZXbb2թm4<rnܙַ[,Kr):3?l1q7syR nD@]S`Y}=g"&kd,'.P W܎}-OXSӰ* WnƩkH.*61~Y7@NP'[Y->}r IvIlKCQGKj>^jKKYaR4b][y$>[ばk&6{vJOwJͬuX?a _ Tk9o4nhcQ1GRO/M!,P |(Gl VBKb慀+ո Sa5臠| u;sϱ}E- Cb0۪<>wG- ե$ѭ2bؓo/f\륆,BL 3kX2qN'z-KCu6 0WZ;$Ӄd&BTjXm%^p" n%I~u}Z 2>) 5musRzPʀJJA<¹C3jm8Ilɢuv>KmFBĭ%rz8ثztف)X+ =}G:7דǃaD'zWp LeNɂC,n/.I%ôt+:xH􂸕G:-$Ш˒->j܎kʩIKUټz"nH@87U3x)|<< Jѹz,;Dc*ڐce')҆NYCzzjCO(*)unuW6>Ll 5;CHTbwd|jS,=hJGeL: b-dPf!*y Ԥ˔rR31mP W! 8:=`.nGZ-L?434Ҕf!b֒ Am+ Q:䕥>︸6ǷùI]5ptφ{Gފ02EKV}϶Zʌذcǽ; gn숭f *%\vv}'7?jzO^j36L!An7cpM +qnDF}&ADBBBoEǣڍtu|weV±#B5T^ιvXs)ɛ!{&Y}@$ۮDzi Tq(OnG2L~Yj~8]U;21*C߹90C| x:8ґc[טpvA/]}8(#;5Kou1CĬ.!n=hoSke3𵘛}x1ug7L2ϡb-+uy 4xWem?//&E;uH-u;0_h;R?R\>͇r-c ĖNe_'[Wm_ol98)[,탟sb%XJ )8H@e0^fֹ cލK&''ufRSu[\D؉M}U\\5 jc 2KT%,_447M$qmv~5%1&9haQԗн[K$Y8r^#b@a"xo_Ӄ"^ Y`Kdd]T8Σl>~UYDF^.8}˛-nͣkQZPP2HElBUU6[iːaa$)j8p]qq":~|Tr0>g?pMmp<L PWJbME"һ{ >QGGNdd~qRz 1_x_,ym Rʒ.\ (m/ TrApIdO{sBZ#ͺ|Miʄ*Vq7,,,Y:b.k##&d\n<O7+n8Rh7n#+̉è"}Mb:7QrQѯrb:Ӊ33PBmuݖ=HLY]HIjyV;z4Md7p-y@AA!!'.  ɠx}I "m;;밂GЁѡwAq$r6hcf'7y9\aCwZ̃7u3^S<{^AP@ m^BB xVfvLyW.nqXY~cD(eG~łU׾fGx4oO#5X(QBvӱv-+eeiJov⫎444LHPS{#Z -/|!tv;f:Q.UJb-k,V :ڿ|i57J_]d74G{ޣkWatڟKm(ѐ|taaGdK*B H@=L"Ji(JYm]$\8籬4ʘw8e-9Pr3,4ΓEYk7k@|y Dp踃Z%LJDxǻ?:88z8d tASWNٍh?.qa?fӲiD;01 \8mmHI#;ikrI~G\eR$Z7RPP1Ll{zޕ'q=˭uLi(@Jlb)޵TOwTq;ȭ^^xg_\\'1Vm>*А%ݢLtgjj"eEl 1yl &Ҍjeuۿ?J=3Uöh1'#g ژ` hBUZUaa 'j㏥W}&WZhC\l/]x iBTK+PBDtm2w? :۫//8_6OUd