Package: orthos Version: 1.8.0 Maintainer: Panagiotis Papasaikas MaintainerEmail: panagiotis.papasaikas at fmi.ch git_url: https://git.bioconductor.org/packages/orthos git_branch: RELEASE_3_22 git_last_commit: 53e77e2 git_last_commit_date: 2025-10-29 11:24:17 -0400 (Wed, 29 Oct 2025)