Package: orthos Version: 1.8.0 Command: /home/biocbuild/bbs-3.22-bioc/R/bin/R CMD INSTALL orthos StartedAt: 2025-11-02 04:35:57 -0000 (Sun, 02 Nov 2025) EndedAt: 2025-11-02 04:37:29 -0000 (Sun, 02 Nov 2025) EllapsedTime: 91.8 seconds RetCode: 0 Status: OK