Package: orthos Version: 1.8.0 Command: /home/biocbuild/bbs-3.22-bioc/R/bin/R CMD build --keep-empty-dirs --no-resave-data orthos StartedAt: 2025-11-02 04:42:58 -0000 (Sun, 02 Nov 2025) EndedAt: 2025-11-02 04:44:43 -0000 (Sun, 02 Nov 2025) EllapsedTime: 105.0 seconds RetCode: 0 Status: OK PackageFile: orthos_1.8.0.tar.gz PackageFileSize: 2.868 MiB