Package: RbowtieCuda Version: 1.0.9 Command: /home/biocbuild/bbs-3.21-bioc-gpu/R/bin/R CMD INSTALL RbowtieCuda StartedAt: 2025-10-04 08:46:21 -0000 (Sat, 04 Oct 2025) EndedAt: 2025-10-04 08:48:06 -0000 (Sat, 04 Oct 2025) EllapsedTime: 104.3 seconds RetCode: 0 Status: OK