Package: RbowtieCuda Version: 1.0.9 Command: /home/biocbuild/bbs-3.21-bioc-gpu/R/bin/R CMD build --keep-empty-dirs --no-resave-data RbowtieCuda StartedAt: 2025-10-04 08:48:45 -0000 (Sat, 04 Oct 2025) EndedAt: 2025-10-04 08:50:55 -0000 (Sat, 04 Oct 2025) EllapsedTime: 130.0 seconds RetCode: 0 Status: OK PackageFile: RbowtieCuda_1.0.9.tar.gz PackageFileSize: 29.16 MiB