Package: RbowtieCuda Version: 1.0.10 Maintainer: Franck RICHARD MaintainerEmail: franck.richard at winstars.net git_url: https://git.bioconductor.org/packages/RbowtieCuda git_branch: RELEASE_3_21 git_last_commit: 05a9122 git_last_commit_date: 2025-10-12 04:45:27 -0400 (Sun, 12 Oct 2025)