Package: zlibbioc Version: 1.54.0 Command: /Library/Frameworks/R.framework/Resources/bin/R CMD INSTALL zlibbioc StartedAt: 2025-09-25 15:29:53 -0400 (Thu, 25 Sep 2025) EndedAt: 2025-09-25 15:29:59 -0400 (Thu, 25 Sep 2025) EllapsedTime: 5.6 seconds RetCode: 0 Status: OK