Package: zitools Version: 1.4.0 Command: /home/biocbuild/bbs-3.22-bioc/R/bin/R CMD INSTALL zitools StartedAt: 2025-11-11 15:36:27 -0500 (Tue, 11 Nov 2025) EndedAt: 2025-11-11 15:37:02 -0500 (Tue, 11 Nov 2025) EllapsedTime: 34.6 seconds RetCode: 0 Status: OK