Package: zitools Version: 1.4.0 Command: /home/biocbuild/bbs-3.22-bioc/R/bin/R CMD check --install=check:zitools.install-out.txt --library=/home/biocbuild/bbs-3.22-bioc/R/site-library --timings zitools_1.4.0.tar.gz StartedAt: 2025-11-15 05:43:13 -0500 (Sat, 15 Nov 2025) EndedAt: 2025-11-15 05:49:44 -0500 (Sat, 15 Nov 2025) EllapsedTime: 390.8 seconds RetCode: 0 Status: WARNINGS CheckDir: zitools.Rcheck Warnings: 1