Package: zitools Version: 1.4.0 Command: /home/biocbuild/bbs-3.22-bioc/R/bin/R CMD build --keep-empty-dirs --no-resave-data --md5 zitools StartedAt: 2025-11-11 20:57:26 -0500 (Tue, 11 Nov 2025) EndedAt: 2025-11-11 20:58:57 -0500 (Tue, 11 Nov 2025) EllapsedTime: 90.6 seconds RetCode: 0 Status: OK PackageFile: zitools_1.4.0.tar.gz PackageFileSize: 253.3 KiB