Package: zitools Version: 1.4.0 Command: /Library/Frameworks/R.framework/Resources/bin/R CMD INSTALL zitools StartedAt: 2025-11-03 15:35:08 -0500 (Mon, 03 Nov 2025) EndedAt: 2025-11-03 15:36:04 -0500 (Mon, 03 Nov 2025) EllapsedTime: 55.6 seconds RetCode: 0 Status: OK