Package: zitools Version: 1.4.0 Command: rm -rf zitools.buildbin-libdir && mkdir zitools.buildbin-libdir && /Users/biocbuild/BBS/utils/build-universal.sh zitools_1.4.0.tar.gz /Library/Frameworks/R.framework/Resources/bin/R zitools.buildbin-libdir StartedAt: 2025-11-04 02:11:04 -0500 (Tue, 04 Nov 2025) EndedAt: 2025-11-04 02:11:44 -0500 (Tue, 04 Nov 2025) EllapsedTime: 40.1 seconds RetCode: 0 Status: OK PackageFile: zitools_1.4.0.tgz PackageFileSize: 779.4 KiB