Package: zitools Version: 1.2.0 Command: /home/biocbuild/R/R/bin/R CMD INSTALL zitools StartedAt: 2025-10-06 20:46:30 -0000 (Mon, 06 Oct 2025) EndedAt: 2025-10-06 20:47:20 -0000 (Mon, 06 Oct 2025) EllapsedTime: 50.4 seconds RetCode: 0 Status: OK