Package: zitools Version: 1.2.0 Command: /home/biocbuild/R/R/bin/R CMD build --keep-empty-dirs --no-resave-data zitools StartedAt: 2025-10-07 05:41:04 -0000 (Tue, 07 Oct 2025) EndedAt: 2025-10-07 05:44:30 -0000 (Tue, 07 Oct 2025) EllapsedTime: 205.8 seconds RetCode: 0 Status: OK PackageFile: zitools_1.2.0.tar.gz PackageFileSize: 237.5 KiB