Package: zitools Version: 1.2.0 Command: rm -rf zitools.buildbin-libdir && mkdir zitools.buildbin-libdir && /Users/biocbuild/BBS/utils/build-universal.sh zitools_1.2.0.tar.gz /Library/Frameworks/R.framework/Resources/bin/R zitools.buildbin-libdir StartedAt: 2025-04-21 22:57:02 -0400 (Mon, 21 Apr 2025) EndedAt: 2025-04-21 22:57:17 -0400 (Mon, 21 Apr 2025) EllapsedTime: 14.8 seconds RetCode: 0 Status: OK PackageFile: zitools_1.2.0.tgz PackageFileSize: 769.3 KiB