Package: zinbwave Version: 1.30.0 Command: /home/biocbuild/R/R/bin/R CMD build --keep-empty-dirs --no-resave-data zinbwave StartedAt: 2025-10-14 05:47:31 -0000 (Tue, 14 Oct 2025) EndedAt: 2025-10-14 05:50:26 -0000 (Tue, 14 Oct 2025) EllapsedTime: 175.8 seconds RetCode: 0 Status: OK PackageFile: zinbwave_1.30.0.tar.gz PackageFileSize: 497.2 KiB