Package: zinbwave Version: 1.32.0 Command: /Library/Frameworks/R.framework/Resources/bin/R CMD INSTALL zinbwave StartedAt: 2025-11-10 15:12:02 -0500 (Mon, 10 Nov 2025) EndedAt: 2025-11-10 15:12:15 -0500 (Mon, 10 Nov 2025) EllapsedTime: 13.4 seconds RetCode: 0 Status: OK