Package: zinbwave Version: 1.32.0 Command: /Library/Frameworks/R.framework/Resources/bin/R CMD build --keep-empty-dirs --no-resave-data zinbwave StartedAt: 2025-11-10 18:10:47 -0500 (Mon, 10 Nov 2025) EndedAt: 2025-11-10 18:11:34 -0500 (Mon, 10 Nov 2025) EllapsedTime: 46.9 seconds RetCode: 0 Status: OK PackageFile: zinbwave_1.32.0.tar.gz PackageFileSize: 588.9 KiB