Package: zinbwave Version: 1.32.0 Command: rm -rf zinbwave.buildbin-libdir && mkdir zinbwave.buildbin-libdir && /Users/biocbuild/BBS/utils/build-universal.sh zinbwave_1.32.0.tar.gz /Library/Frameworks/R.framework/Resources/bin/R zinbwave.buildbin-libdir StartedAt: 2025-11-10 23:41:21 -0500 (Mon, 10 Nov 2025) EndedAt: 2025-11-10 23:41:35 -0500 (Mon, 10 Nov 2025) EllapsedTime: 13.8 seconds RetCode: 0 Status: OK PackageFile: zinbwave_1.32.0.tgz PackageFileSize: 1.021 MiB