Package: zenith Version: 1.12.0 Command: /home/biocbuild/bbs-3.22-bioc/R/bin/R CMD INSTALL zenith StartedAt: 2025-11-11 16:04:43 -0500 (Tue, 11 Nov 2025) EndedAt: 2025-11-11 16:05:18 -0500 (Tue, 11 Nov 2025) EllapsedTime: 35.6 seconds RetCode: 0 Status: OK