Package: zenith Version: 1.12.0 Command: /home/biocbuild/bbs-3.22-bioc/R/bin/R CMD build --keep-empty-dirs --no-resave-data --md5 zenith StartedAt: 2025-11-11 20:57:10 -0500 (Tue, 11 Nov 2025) EndedAt: 2025-11-11 20:58:49 -0500 (Tue, 11 Nov 2025) EllapsedTime: 98.8 seconds RetCode: 0 Status: OK PackageFile: zenith_1.12.0.tar.gz PackageFileSize: 666.8 KiB