Package: zenith Version: 1.10.0 Command: /home/biocbuild/R/R/bin/R CMD INSTALL zenith StartedAt: 2025-10-13 21:18:00 -0000 (Mon, 13 Oct 2025) EndedAt: 2025-10-13 21:18:51 -0000 (Mon, 13 Oct 2025) EllapsedTime: 50.6 seconds RetCode: 0 Status: OK