Package: zenith Version: 1.10.0 Command: /home/biocbuild/R/R/bin/R CMD build --keep-empty-dirs --no-resave-data zenith StartedAt: 2025-10-14 05:47:21 -0000 (Tue, 14 Oct 2025) EndedAt: 2025-10-14 05:48:37 -0000 (Tue, 14 Oct 2025) EllapsedTime: 76.7 seconds RetCode: 0 Status: OK PackageFile: zenith_1.10.0.tar.gz PackageFileSize: 787.2 KiB