Package: zenith Version: 1.12.0 Command: /Library/Frameworks/R.framework/Resources/bin/R CMD INSTALL zenith StartedAt: 2025-11-02 15:31:50 -0500 (Sun, 02 Nov 2025) EndedAt: 2025-11-02 15:32:04 -0500 (Sun, 02 Nov 2025) EllapsedTime: 14.4 seconds RetCode: 0 Status: OK