Package: zenith Version: 1.12.0 Command: /Library/Frameworks/R.framework/Resources/bin/R CMD build --keep-empty-dirs --no-resave-data zenith StartedAt: 2025-11-03 18:09:36 -0500 (Mon, 03 Nov 2025) EndedAt: 2025-11-03 18:10:16 -0500 (Mon, 03 Nov 2025) EllapsedTime: 40.0 seconds RetCode: 0 Status: OK PackageFile: zenith_1.12.0.tar.gz PackageFileSize: 678.3 KiB