Package: zenith Version: 1.12.0 Command: rm -rf zenith.buildbin-libdir && mkdir zenith.buildbin-libdir && /Users/biocbuild/BBS/utils/build-universal.sh zenith_1.12.0.tar.gz /Library/Frameworks/R.framework/Resources/bin/R zenith.buildbin-libdir StartedAt: 2025-11-02 23:26:15 -0500 (Sun, 02 Nov 2025) EndedAt: 2025-11-02 23:26:30 -0500 (Sun, 02 Nov 2025) EllapsedTime: 14.5 seconds RetCode: 0 Status: OK PackageFile: zenith_1.12.0.tgz PackageFileSize: 736.5 KiB