Package: zellkonverter Version: 1.20.0 Command: /home/biocbuild/bbs-3.22-bioc/R/bin/R CMD INSTALL zellkonverter StartedAt: 2025-10-31 15:30:58 -0400 (Fri, 31 Oct 2025) EndedAt: 2025-10-31 15:31:17 -0400 (Fri, 31 Oct 2025) EllapsedTime: 19.9 seconds RetCode: 0 Status: OK