Package: zellkonverter Version: 1.20.0 Command: /home/biocbuild/bbs-3.22-bioc/R/bin/R CMD build --keep-empty-dirs --no-resave-data --md5 zellkonverter StartedAt: 2025-10-31 20:58:19 -0400 (Fri, 31 Oct 2025) EndedAt: 2025-10-31 20:59:11 -0400 (Fri, 31 Oct 2025) EllapsedTime: 52.0 seconds RetCode: 0 Status: OK PackageFile: zellkonverter_1.20.0.tar.gz PackageFileSize: 1.417 MiB