Package: zFPKM Version: 1.32.0 Command: /home/biocbuild/bbs-3.22-bioc/R/bin/R CMD build --keep-empty-dirs --no-resave-data --md5 zFPKM StartedAt: 2025-11-11 20:57:15 -0500 (Tue, 11 Nov 2025) EndedAt: 2025-11-11 20:58:01 -0500 (Tue, 11 Nov 2025) EllapsedTime: 46.1 seconds RetCode: 0 Status: OK PackageFile: zFPKM_1.32.0.tar.gz PackageFileSize: 147.7 KiB