Package: yarn Version: 1.36.0 Command: /home/biocbuild/bbs-3.22-bioc/R/bin/R CMD build --keep-empty-dirs --no-resave-data --md5 yarn StartedAt: 2025-11-16 20:58:23 -0500 (Sun, 16 Nov 2025) EndedAt: 2025-11-16 20:59:39 -0500 (Sun, 16 Nov 2025) EllapsedTime: 75.3 seconds RetCode: 0 Status: OK PackageFile: yarn_1.36.0.tar.gz PackageFileSize: 2.975 MiB