Package: yamss Version: 1.36.0 Command: /home/biocbuild/bbs-3.22-bioc/R/bin/R CMD build --keep-empty-dirs --no-resave-data --md5 yamss StartedAt: 2025-11-14 20:56:24 -0500 (Fri, 14 Nov 2025) EndedAt: 2025-11-14 20:58:37 -0500 (Fri, 14 Nov 2025) EllapsedTime: 133.4 seconds RetCode: 0 Status: OK PackageFile: yamss_1.36.0.tar.gz PackageFileSize: 425.1 KiB