Package: xmapbridge Version: 1.68.0 Command: /home/biocbuild/bbs-3.22-bioc/R/bin/R CMD INSTALL xmapbridge StartedAt: 2025-11-11 15:06:36 -0500 (Tue, 11 Nov 2025) EndedAt: 2025-11-11 15:06:43 -0500 (Tue, 11 Nov 2025) EllapsedTime: 7.2 seconds RetCode: 0 Status: OK