Package: xmapbridge Version: 1.68.0 Command: /home/biocbuild/bbs-3.22-bioc/R/bin/R CMD check --install=check:xmapbridge.install-out.txt --library=/home/biocbuild/bbs-3.22-bioc/R/site-library --timings xmapbridge_1.68.0.tar.gz StartedAt: 2025-11-17 05:32:33 -0500 (Mon, 17 Nov 2025) EndedAt: 2025-11-17 05:33:10 -0500 (Mon, 17 Nov 2025) EllapsedTime: 36.0 seconds RetCode: 0 Status: OK CheckDir: xmapbridge.Rcheck Warnings: 0