Package: xmapbridge Version: 1.68.0 Command: /Library/Frameworks/R.framework/Resources/bin/R CMD INSTALL xmapbridge StartedAt: 2025-11-03 15:09:22 -0500 (Mon, 03 Nov 2025) EndedAt: 2025-11-03 15:10:01 -0500 (Mon, 03 Nov 2025) EllapsedTime: 38.4 seconds RetCode: 0 Status: OK