Package: xmapbridge Version: 1.68.0 Command: /Library/Frameworks/R.framework/Resources/bin/R CMD build --keep-empty-dirs --no-resave-data xmapbridge StartedAt: 2025-11-03 19:15:56 -0500 (Mon, 03 Nov 2025) EndedAt: 2025-11-03 19:16:35 -0500 (Mon, 03 Nov 2025) EllapsedTime: 40.0 seconds RetCode: 0 Status: OK PackageFile: xmapbridge_1.68.0.tar.gz PackageFileSize: 3.019 MiB