Package: xmapbridge Version: 1.68.0 Command: rm -rf xmapbridge.buildbin-libdir && mkdir xmapbridge.buildbin-libdir && /Users/biocbuild/BBS/utils/build-universal.sh xmapbridge_1.68.0.tar.gz /Library/Frameworks/R.framework/Resources/bin/R xmapbridge.buildbin-libdir StartedAt: 2025-11-04 02:10:51 -0500 (Tue, 04 Nov 2025) EndedAt: 2025-11-04 02:10:58 -0500 (Tue, 04 Nov 2025) EllapsedTime: 6.9 seconds RetCode: 0 Status: OK PackageFile: xmapbridge_1.68.0.tgz PackageFileSize: 1.763 MiB