Package: xmapbridge Version: 1.66.0 Command: /home/biocbuild/R/R/bin/R CMD INSTALL xmapbridge StartedAt: 2025-10-13 20:12:48 -0000 (Mon, 13 Oct 2025) EndedAt: 2025-10-13 20:13:00 -0000 (Mon, 13 Oct 2025) EllapsedTime: 11.7 seconds RetCode: 0 Status: OK