Package: xmapbridge Version: 1.66.0 Command: /home/biocbuild/R/R/bin/R CMD build --keep-empty-dirs --no-resave-data xmapbridge StartedAt: 2025-10-14 05:46:34 -0000 (Tue, 14 Oct 2025) EndedAt: 2025-10-14 05:46:58 -0000 (Tue, 14 Oct 2025) EllapsedTime: 24.0 seconds RetCode: 0 Status: OK PackageFile: xmapbridge_1.66.0.tar.gz PackageFileSize: 3.012 MiB