Package: xmapbridge Version: 1.66.0 Command: rm -rf xmapbridge.buildbin-libdir && mkdir xmapbridge.buildbin-libdir && /Users/biocbuild/BBS/utils/build-universal.sh xmapbridge_1.66.0.tar.gz /Library/Frameworks/R.framework/Resources/bin/R xmapbridge.buildbin-libdir StartedAt: 2025-04-21 22:56:55 -0400 (Mon, 21 Apr 2025) EndedAt: 2025-04-21 22:56:57 -0400 (Mon, 21 Apr 2025) EllapsedTime: 2.1 seconds RetCode: 0 Status: OK PackageFile: xmapbridge_1.66.0.tgz PackageFileSize: 1.763 MiB