Package: xenLite Version: 1.4.0 Command: /home/biocbuild/R/R/bin/R CMD INSTALL xenLite StartedAt: 2025-11-13 21:45:08 -0000 (Thu, 13 Nov 2025) EndedAt: 2025-11-13 21:45:52 -0000 (Thu, 13 Nov 2025) EllapsedTime: 43.4 seconds RetCode: 0 Status: OK