Package: xenLite Version: 1.4.0 Command: /home/biocbuild/R/R/bin/R CMD build --keep-empty-dirs --no-resave-data xenLite StartedAt: 2025-11-14 06:22:25 -0000 (Fri, 14 Nov 2025) EndedAt: 2025-11-14 06:23:29 -0000 (Fri, 14 Nov 2025) EllapsedTime: 64.0 seconds RetCode: 1 Status: ERROR PackageFile: None PackageFileSize: NA