Package: xenLite Version: 1.4.0 Command: /home/biocbuild/bbs-3.22-bioc/R/bin/R CMD INSTALL xenLite StartedAt: 2025-11-11 15:40:30 -0500 (Tue, 11 Nov 2025) EndedAt: 2025-11-11 15:41:03 -0500 (Tue, 11 Nov 2025) EllapsedTime: 33.0 seconds RetCode: 0 Status: OK