Package: xenLite Version: 1.2.1 Command: /Library/Frameworks/R.framework/Resources/bin/R CMD INSTALL xenLite StartedAt: 2025-10-13 16:05:39 -0400 (Mon, 13 Oct 2025) EndedAt: 2025-10-13 16:06:50 -0400 (Mon, 13 Oct 2025) EllapsedTime: 71.0 seconds RetCode: 0 Status: OK