Package: xenLite Version: 1.2.1 Command: rm -rf xenLite.buildbin-libdir && mkdir xenLite.buildbin-libdir && /Users/biocbuild/BBS/utils/build-universal.sh xenLite_1.2.1.tar.gz /Library/Frameworks/R.framework/Resources/bin/R xenLite.buildbin-libdir StartedAt: 2025-10-14 15:04:04 -0400 (Tue, 14 Oct 2025) EndedAt: 2025-10-14 15:05:25 -0400 (Tue, 14 Oct 2025) EllapsedTime: 81.4 seconds RetCode: 0 Status: OK PackageFile: xenLite_1.2.1.tgz PackageFileSize: 3.022 MiB