Package: xcore Version: 1.14.0 Command: /home/biocbuild/R/R/bin/R CMD INSTALL xcore StartedAt: 2025-11-13 21:26:31 -0000 (Thu, 13 Nov 2025) EndedAt: 2025-11-13 21:27:02 -0000 (Thu, 13 Nov 2025) EllapsedTime: 30.9 seconds RetCode: 0 Status: OK