Package: xcore Version: 1.14.0 Command: /home/biocbuild/bbs-3.22-bioc/R/bin/R CMD INSTALL xcore StartedAt: 2025-11-11 15:24:37 -0500 (Tue, 11 Nov 2025) EndedAt: 2025-11-11 15:25:00 -0500 (Tue, 11 Nov 2025) EllapsedTime: 22.9 seconds RetCode: 0 Status: OK