Package: xcore Version: 1.14.0 Command: /home/biocbuild/bbs-3.22-bioc/R/bin/R CMD check --install=check:xcore.install-out.txt --library=/home/biocbuild/bbs-3.22-bioc/R/site-library --timings xcore_1.14.0.tar.gz StartedAt: 2025-11-12 05:28:44 -0500 (Wed, 12 Nov 2025) EndedAt: 2025-11-12 05:37:07 -0500 (Wed, 12 Nov 2025) EllapsedTime: 503.2 seconds RetCode: 0 Status: OK CheckDir: xcore.Rcheck Warnings: 0