Package: xcore Version: 1.12.0 Command: /home/biocbuild/bbs-3.21-bioc/R/bin/R CMD INSTALL xcore StartedAt: 2025-10-08 15:19:11 -0400 (Wed, 08 Oct 2025) EndedAt: 2025-10-08 15:19:35 -0400 (Wed, 08 Oct 2025) EllapsedTime: 23.8 seconds RetCode: 0 Status: OK