Package: xcore Version: 1.12.0 Command: /home/biocbuild/bbs-3.21-bioc/R/bin/R CMD build --keep-empty-dirs --no-resave-data xcore StartedAt: 2025-10-08 20:30:56 -0400 (Wed, 08 Oct 2025) EndedAt: 2025-10-08 20:32:22 -0400 (Wed, 08 Oct 2025) EllapsedTime: 86.1 seconds RetCode: 0 Status: OK PackageFile: xcore_1.12.0.tar.gz PackageFileSize: 2.408 MiB